BEGIN:VCALENDAR
VERSION:2.0
PRODID:-//Loncheros Parilla - ECPv6.15.20//NONSGML v1.0//EN
CALSCALE:GREGORIAN
METHOD:PUBLISH
X-WR-CALNAME:Loncheros Parilla
X-ORIGINAL-URL:https://loncheroscolombia.com
X-WR-CALDESC:Eventos para Loncheros Parilla
REFRESH-INTERVAL;VALUE=DURATION:PT1H
X-Robots-Tag:noindex
X-PUBLISHED-TTL:PT1H
BEGIN:VTIMEZONE
TZID:America/New_York
BEGIN:DAYLIGHT
TZOFFSETFROM:-0500
TZOFFSETTO:-0400
TZNAME:EDT
DTSTART:20250309T070000
END:DAYLIGHT
BEGIN:STANDARD
TZOFFSETFROM:-0400
TZOFFSETTO:-0500
TZNAME:EST
DTSTART:20251102T060000
END:STANDARD
BEGIN:DAYLIGHT
TZOFFSETFROM:-0500
TZOFFSETTO:-0400
TZNAME:EDT
DTSTART:20260308T070000
END:DAYLIGHT
BEGIN:STANDARD
TZOFFSETFROM:-0400
TZOFFSETTO:-0500
TZNAME:EST
DTSTART:20261101T060000
END:STANDARD
BEGIN:DAYLIGHT
TZOFFSETFROM:-0500
TZOFFSETTO:-0400
TZNAME:EDT
DTSTART:20270314T070000
END:DAYLIGHT
BEGIN:STANDARD
TZOFFSETFROM:-0400
TZOFFSETTO:-0500
TZNAME:EST
DTSTART:20271107T060000
END:STANDARD
END:VTIMEZONE
BEGIN:VEVENT
DTSTART;TZID=America/New_York:20260425T200000
DTEND;TZID=America/New_York:20260425T213000
DTSTAMP:20260425T084348
CREATED:20260425T010507Z
LAST-MODIFIED:20260425T010610Z
UID:372-1777147200-1777152600@loncheroscolombia.com
SUMMARY:Noche de Rock
DESCRIPTION:Guitarrista y cantante con lo mejor del rock y pop en español alternativo de los 80´s y 90´s
URL:https://loncheroscolombia.com/event/noche-de-rock/
LOCATION:Loncheros Parrilla\, Cra. 9 #7-34\, Villeta\, Cundinamarca\, 253540\, Colombia
CATEGORIES:Aqui Hay Show
ATTACH;FMTTYPE=image/png:https://loncheroscolombia.com/wp-content/uploads/2026/04/historias-eventos-sueltos-02-scaled.png
END:VEVENT
BEGIN:VEVENT
DTSTART;TZID=America/New_York:20260426T170000
DTEND;TZID=America/New_York:20260426T170000
DTSTAMP:20260425T084348
CREATED:20260425T014454Z
LAST-MODIFIED:20260425T014521Z
UID:455-1777222800-1777222800@loncheroscolombia.com
SUMMARY:Día del Niño
DESCRIPTION:Celebración del día del Niño en loncheros
URL:https://loncheroscolombia.com/event/dia-del-nino/
LOCATION:Loncheros Parrilla\, Cra. 9 #7-34\, Villeta\, Cundinamarca\, 253540\, Colombia
CATEGORIES:Aqui Hay Show
ATTACH;FMTTYPE=image/png:https://loncheroscolombia.com/wp-content/uploads/2026/04/Fechas-04-scaled.png
END:VEVENT
BEGIN:VEVENT
DTSTART;TZID=America/New_York:20260430T190000
DTEND;TZID=America/New_York:20260430T190000
DTSTAMP:20260425T084348
CREATED:20260425T011836Z
LAST-MODIFIED:20260425T013518Z
UID:432-1777575600-1777575600@loncheroscolombia.com
SUMMARY:Jueves de Karaoke
DESCRIPTION:Canta y Gana premios
URL:https://loncheroscolombia.com/event/jueves-de-karaoke/
LOCATION:Loncheros Parrilla\, Cra. 9 #7-34\, Villeta\, Cundinamarca\, 253540\, Colombia
CATEGORIES:enCanta tu Voz
ATTACH;FMTTYPE=image/png:https://loncheroscolombia.com/wp-content/uploads/2026/04/Fechas-02-scaled.png
END:VEVENT
BEGIN:VEVENT
DTSTART;TZID=America/New_York:20260502T190000
DTEND;TZID=America/New_York:20260502T190000
DTSTAMP:20260425T084348
CREATED:20260425T014649Z
LAST-MODIFIED:20260425T014655Z
UID:457-1777748400-1777748400@loncheroscolombia.com
SUMMARY:Día del Trabajo
DESCRIPTION:Celebración del día del trabajo en Loncheros
URL:https://loncheroscolombia.com/event/dia-del-trabajo/
LOCATION:Loncheros Parrilla\, Cra. 9 #7-34\, Villeta\, Cundinamarca\, 253540\, Colombia
CATEGORIES:Aqui Hay Show
ATTACH;FMTTYPE=image/png:https://loncheroscolombia.com/wp-content/uploads/2026/04/Fechas-04-scaled.png
END:VEVENT
BEGIN:VEVENT
DTSTART;TZID=America/New_York:20260514T190000
DTEND;TZID=America/New_York:20260514T190000
DTSTAMP:20260425T084348
CREATED:20260425T012056Z
LAST-MODIFIED:20260425T014013Z
UID:434-1778785200-1778785200@loncheroscolombia.com
SUMMARY:Jueves de Karaoke
DESCRIPTION:Tercer día del Jueves de Karaoke donde ganarás muchos premios
URL:https://loncheroscolombia.com/event/jueves-de-karaoke-2/
LOCATION:Loncheros Parrilla\, Cra. 9 #7-34\, Villeta\, Cundinamarca\, 253540\, Colombia
CATEGORIES:enCanta tu Voz
ATTACH;FMTTYPE=image/png:https://loncheroscolombia.com/wp-content/uploads/2026/04/Fechas-02-scaled.png
END:VEVENT
BEGIN:VEVENT
DTSTART;TZID=America/New_York:20260528T190000
DTEND;TZID=America/New_York:20260528T190000
DTSTAMP:20260425T084348
CREATED:20260425T012211Z
LAST-MODIFIED:20260425T014140Z
UID:436-1779994800-1779994800@loncheroscolombia.com
SUMMARY:Jueves de Karaoke
DESCRIPTION:Cuato día de nuestra selección de ganadores del karaoke
URL:https://loncheroscolombia.com/event/jueves-de-karaoke-3/
LOCATION:Loncheros Parrilla\, Cra. 9 #7-34\, Villeta\, Cundinamarca\, 253540\, Colombia
CATEGORIES:enCanta tu Voz
ATTACH;FMTTYPE=image/png:https://loncheroscolombia.com/wp-content/uploads/2026/04/Fechas-02-scaled.png
END:VEVENT
BEGIN:VEVENT
DTSTART;TZID=America/New_York:20260611T190000
DTEND;TZID=America/New_York:20260611T190000
DTSTAMP:20260425T084348
CREATED:20260425T012321Z
LAST-MODIFIED:20260425T014218Z
UID:438-1781204400-1781204400@loncheroscolombia.com
SUMMARY:Semifinal Karaoke
DESCRIPTION:La semifinal de nuestra primera remporada de karaoke
URL:https://loncheroscolombia.com/event/semifinal-karaoke/
LOCATION:Loncheros Parrilla\, Cra. 9 #7-34\, Villeta\, Cundinamarca\, 253540\, Colombia
CATEGORIES:enCanta tu Voz
ATTACH;FMTTYPE=image/png:https://loncheroscolombia.com/wp-content/uploads/2026/04/Fechas-02-scaled.png
END:VEVENT
BEGIN:VEVENT
DTSTART;TZID=America/New_York:20260625T190000
DTEND;TZID=America/New_York:20260625T190000
DTSTAMP:20260425T084348
CREATED:20260425T012427Z
LAST-MODIFIED:20260425T014233Z
UID:440-1782414000-1782414000@loncheroscolombia.com
SUMMARY:Final del Karaoke
DESCRIPTION:Final de temporada y entrega de trofeo primera temporada Karaoke
URL:https://loncheroscolombia.com/event/final-del-karaoke/
LOCATION:Loncheros Parrilla\, Cra. 9 #7-34\, Villeta\, Cundinamarca\, 253540\, Colombia
CATEGORIES:enCanta tu Voz
ATTACH;FMTTYPE=image/png:https://loncheroscolombia.com/wp-content/uploads/2026/04/Fechas-02-scaled.png
END:VEVENT
END:VCALENDAR